BEGIN:VCALENDAR
VERSION:2.0
PRODID:-//pretix//Portia_Web_Solutions_Ticketing_Services//
BEGIN:VTIMEZONE
TZID:Europe/London
BEGIN:STANDARD
DTSTART:20001029T030000
RRULE:FREQ=YEARLY;BYDAY=-1SU;BYMONTH=10
TZNAME:GMT
TZOFFSETFROM:+0100
TZOFFSETTO:+0000
END:STANDARD
BEGIN:DAYLIGHT
DTSTART:20000326T020000
RRULE:FREQ=YEARLY;BYDAY=-1SU;BYMONTH=3
TZNAME:BST
TZOFFSETFROM:+0000
TZOFFSETTO:+0100
END:DAYLIGHT
END:VTIMEZONE
BEGIN:VEVENT
UID:pretix-Igbounionstoke-xmas2025-0@tickets.portiawebsolutions.com
DTSTART;TZID=Europe/London:20251213T130000
DTEND;TZID=Europe/London:20251213T230000
DESCRIPTION:Tickets: https://tickets.portiawebsolutions.com/Igbounionstoke/
 xmas2025/\nAdmission: 2025-12-13 12:00\nOrganizer: Igbo Union Stoke-on-Tre
 nt
DTSTAMP:20260423T124935Z
LOCATION:Weston Coyney Village Hall\, Princess Dr\, Weston Coyney\, Stoke-o
 n-Trent\, ST3 6NQ
SUMMARY:Igbo Union Stoke  Xmas End of Year Party 2025
END:VEVENT
END:VCALENDAR
