BEGIN:VCALENDAR
VERSION:2.0
PRODID:-//pretix//Portia_Web_Solutions_Ticketing_Services//
BEGIN:VTIMEZONE
TZID:Europe/London
BEGIN:STANDARD
DTSTART:20001029T030000
RRULE:FREQ=YEARLY;BYDAY=-1SU;BYMONTH=10
TZNAME:GMT
TZOFFSETFROM:+0100
TZOFFSETTO:+0000
END:STANDARD
BEGIN:DAYLIGHT
DTSTART:20000326T020000
RRULE:FREQ=YEARLY;BYDAY=-1SU;BYMONTH=3
TZNAME:BST
TZOFFSETFROM:+0000
TZOFFSETTO:+0100
END:DAYLIGHT
END:VTIMEZONE
BEGIN:VEVENT
UID:pretix-Igbounionstoke-xmas2024-0@tickets.portiawebsolutions.com
DTSTART;TZID=Europe/London:20241214T140000
DTEND;TZID=Europe/London:20241214T200000
DESCRIPTION:Tickets: https://tickets.portiawebsolutions.com/Igbounionstoke/
 xmas2024/\nOrganizer: Igbo Union Stoke-on-Trent
DTSTAMP:20260425T103450Z
LOCATION:Victoria Square\, Hanley\, Stoke-on-Trent\, Staffordshire ST1 4JH 
 United Kingdom
SUMMARY:Igbo Union Stoke End of Year Party 2024
END:VEVENT
END:VCALENDAR
