BEGIN:VCALENDAR
VERSION:2.0
PRODID:-//pretix//Portia_Web_Solutions_Ticketing_Services//
BEGIN:VTIMEZONE
TZID:Europe/London
BEGIN:STANDARD
DTSTART:20001029T030000
RRULE:FREQ=YEARLY;BYDAY=-1SU;BYMONTH=10
TZNAME:GMT
TZOFFSETFROM:+0100
TZOFFSETTO:+0000
END:STANDARD
BEGIN:DAYLIGHT
DTSTART:20000326T020000
RRULE:FREQ=YEARLY;BYDAY=-1SU;BYMONTH=3
TZNAME:BST
TZOFFSETFROM:+0000
TZOFFSETTO:+0100
END:DAYLIGHT
END:VTIMEZONE
BEGIN:VEVENT
UID:pretix-Igbounionstoke-irijifest2025-0@tickets.portiawebsolutions.com
DTSTART;TZID=Europe/London:20250906T120000
DTEND;TZID=Europe/London:20250906T210000
DESCRIPTION:Tickets: https://tickets.portiawebsolutions.com/Igbounionstoke/
 irijifest2025/\nOrganizer: Igbo Union Stoke-on-Trent
DTSTAMP:20260423T124043Z
LOCATION:Northwood Stadium\, Keelings Rd\, Stoke-on-Trent\, ST1 6PB
SUMMARY:Igbo Union Stoke Iriji (New Yam) Festival 2025
END:VEVENT
END:VCALENDAR
